BEGIN:VCALENDAR
VERSION:2.0
PRODID:-//81.176.228.3//NONSGML kigkonsult.se iCalcreator 2.10.23//
BEGIN:VEVENT
UID:20260423T133902MSD-3113KVCHU0@81.176.228.3
DTSTAMP:20260423T093902Z
DESCRIPTION:УСК ВятГГУ
DTSTART;TZID=Europe/Moscow:20131120T173000
DTEND;TZID=Europe/Moscow:20131120T182500
LOCATION:ул. Орловская\, д. 12\,  Киров
SUMMARY:Чемпионат Кировской области по мини-футболу 2013-2014: 'Фанком' Кир
 ов - 'Вятская ГСХА' Киров
END:VEVENT
BEGIN:VEVENT
UID:20260423T133902MSD-3127JKu5vf@81.176.228.3
DTSTAMP:20260423T093902Z
DESCRIPTION:УСК ВятГГУ
DTSTART;TZID=Europe/Moscow:20131127T180000
DTEND;TZID=Europe/Moscow:20131127T185500
LOCATION:ул. Орловская\, д. 12\,  Киров
SUMMARY:Чемпионат Кировской области по мини-футболу 2013-2014: 'Ракета' Сло
 бодской - 'Фанком' Киров
END:VEVENT
BEGIN:VEVENT
UID:20260423T133902MSD-3140TFRcPX@81.176.228.3
DTSTAMP:20260423T093902Z
DESCRIPTION:УСК ВятГГУ
DTSTART;TZID=Europe/Moscow:20131202T190000
DTEND;TZID=Europe/Moscow:20131202T195500
LOCATION:ул. Орловская\, д. 12\,  Киров
SUMMARY:Чемпионат Кировской области по мини-футболу 2013-2014: 'Фанком' Кир
 ов - 'Труд' Вахруши
END:VEVENT
BEGIN:VEVENT
UID:20260423T133902MSD-3154kpJXHB@81.176.228.3
DTSTAMP:20260423T093902Z
DESCRIPTION:УСК ВятГГУ
DTSTART;TZID=Europe/Moscow:20131209T180000
DTEND;TZID=Europe/Moscow:20131209T185500
LOCATION:ул. Орловская\, д. 12\,  Киров
SUMMARY:Чемпионат Кировской области по мини-футболу 2013-2014: 'Авангард' К
 иров - 'Фанком' Киров
END:VEVENT
BEGIN:VEVENT
UID:20260423T133902MSD-3167ktSKCE@81.176.228.3
DTSTAMP:20260423T093902Z
DESCRIPTION:УСК ВятГГУ
DTSTART;TZID=Europe/Moscow:20131218T180000
DTEND;TZID=Europe/Moscow:20131218T185500
LOCATION:ул. Орловская\, д. 12\,  Киров
SUMMARY:Чемпионат Кировской области по мини-футболу 2013-2014: 'Фанком' Кир
 ов - 'ГЭС' Киров
END:VEVENT
BEGIN:VEVENT
UID:20260423T133902MSD-31807nI2oo@81.176.228.3
DTSTAMP:20260423T093902Z
DESCRIPTION:УСК ВятГГУ
DTSTART;TZID=Europe/Moscow:20131225T180000
DTEND;TZID=Europe/Moscow:20131225T185500
LOCATION:ул. Орловская\, д. 12\,  Киров
SUMMARY:Чемпионат Кировской области по мини-футболу 2013-2014: СК 'Аякс' Ки
 ров - 'Фанком' Киров
END:VEVENT
BEGIN:VEVENT
UID:20260423T133902MSD-319475pCeU@81.176.228.3
DTSTAMP:20260423T093902Z
DESCRIPTION:УСК ВятГГУ
DTSTART;TZID=Europe/Moscow:20140104T130000
DTEND;TZID=Europe/Moscow:20140104T135500
LOCATION:ул. Орловская\, д. 12\,  Киров
SUMMARY:Чемпионат Кировской области по мини-футболу 2013-2014: 'Фанком' Кир
 ов - 'Кировэнерго' Киров
END:VEVENT
BEGIN:VEVENT
UID:20260423T133902MSD-3206bXCuAH@81.176.228.3
DTSTAMP:20260423T093902Z
DESCRIPTION:УСК ВятГГУ
DTSTART;TZID=Europe/Moscow:20140106T140000
DTEND;TZID=Europe/Moscow:20140106T145500
LOCATION:ул. Орловская\, д. 12\,  Киров
SUMMARY:Чемпионат Кировской области по мини-футболу 2013-2014: 'МЧС' Киров 
 - 'Фанком' Киров
END:VEVENT
BEGIN:VEVENT
UID:20260423T133902MSD-3219ewFMkj@81.176.228.3
DTSTAMP:20260423T093902Z
DESCRIPTION:УСК ВятГГУ
DTSTART;TZID=Europe/Moscow:20140108T120000
DTEND;TZID=Europe/Moscow:20140108T125500
LOCATION:ул. Орловская\, д. 12\,  Киров
SUMMARY:Чемпионат Кировской области по мини-футболу 2013-2014: 'Фанком' Кир
 ов - 'Старт' Киров
END:VEVENT
BEGIN:VEVENT
UID:20260423T133902MSD-3231E3Rg83@81.176.228.3
DTSTAMP:20260423T093902Z
DESCRIPTION:УСК ВятГГУ
DTSTART;TZID=Europe/Moscow:20140122T180000
DTEND;TZID=Europe/Moscow:20140122T185500
LOCATION:ул. Орловская\, д. 12\,  Киров
SUMMARY:Чемпионат Кировской области по мини-футболу 2013-2014: 'Фанком' Кир
 ов - 'Олимп' Киров
END:VEVENT
BEGIN:VEVENT
UID:20260423T133902MSD-3243ie12re@81.176.228.3
DTSTAMP:20260423T093902Z
DESCRIPTION:УСК ВятГГУ
DTSTART;TZID=Europe/Moscow:20140127T170000
DTEND;TZID=Europe/Moscow:20140127T175500
LOCATION:ул. Орловская\, д. 12\,  Киров
SUMMARY:Чемпионат Кировской области по мини-футболу 2013-2014: 'ВятГГУ' Кир
 ов - 'Фанком' Киров
END:VEVENT
BEGIN:VEVENT
UID:20260423T133902MSD-3255xVVA9x@81.176.228.3
DTSTAMP:20260423T093902Z
DESCRIPTION:УСК ВятГГУ
DTSTART;TZID=Europe/Moscow:20140203T200000
DTEND;TZID=Europe/Moscow:20140203T205500
LOCATION:ул. Орловская\, д. 12\,  Киров
SUMMARY:Чемпионат Кировской области по мини-футболу 2013-2014: 'КРО Динамо'
  Киров - 'Фанком' Киров
END:VEVENT
BEGIN:VEVENT
UID:20260423T133902MSD-32671SEKoz@81.176.228.3
DTSTAMP:20260423T093902Z
DESCRIPTION:УСК ВятГГУ
DTSTART;TZID=Europe/Moscow:20140210T190000
DTEND;TZID=Europe/Moscow:20140210T195500
LOCATION:ул. Орловская\, д. 12\,  Киров
SUMMARY:Чемпионат Кировской области по мини-футболу 2013-2014: 'ИнтерОптим'
  Киров - 'Фанком' Киров
END:VEVENT
BEGIN:VEVENT
UID:20260423T133902MSD-3279vegBaO@81.176.228.3
DTSTAMP:20260423T093902Z
DESCRIPTION:УСК ВятГГУ
DTSTART;TZID=Europe/Moscow:20140217T200000
DTEND;TZID=Europe/Moscow:20140217T205500
LOCATION:ул. Орловская\, д. 12\,  Киров
SUMMARY:Чемпионат Кировской области по мини-футболу 2013-2014: 'Фанком' Кир
 ов - 'АВИТЕК' Киров
END:VEVENT
BEGIN:VEVENT
UID:20260423T133902MSD-3292hVOrVT@81.176.228.3
DTSTAMP:20260423T093902Z
DESCRIPTION:УСК ВятГГУ
DTSTART;TZID=Europe/Moscow:20140224T180000
DTEND;TZID=Europe/Moscow:20140224T185500
LOCATION:ул. Орловская\, д. 12\,  Киров
SUMMARY:Чемпионат Кировской области по мини-футболу 2013-2014: 'ГГК' Киров 
 - 'Фанком' Киров
END:VEVENT
BEGIN:VEVENT
UID:20260423T133902MSD-3305UUBx6e@81.176.228.3
DTSTAMP:20260423T093902Z
DESCRIPTION:УСК ВятГГУ
DTSTART;TZID=Europe/Moscow:20140305T200000
DTEND;TZID=Europe/Moscow:20140305T205500
LOCATION:ул. Орловская\, д. 12\,  Киров
SUMMARY:Чемпионат Кировской области по мини-футболу 2013-2014: 'Фанком' Кир
 ов - 'Прогресс-Пятерка' Киров
END:VEVENT
END:VCALENDAR
