BEGIN:VCALENDAR
VERSION:2.0
PRODID:-//81.176.228.3//NONSGML kigkonsult.se iCalcreator 2.10.23//
BEGIN:VEVENT
UID:20260422T081521MSD-9249HnSspG@81.176.228.3
DTSTAMP:20260422T041521Z
DESCRIPTION:
DTSTART;TZID=Europe/Moscow:20140710T160000
DTEND;TZID=Europe/Moscow:20140710T173500
LOCATION:
SUMMARY:Первенство Кировской области по футболу. Юноши 1997-1998. Групповой
  этап 2014.: 'ДЮСШ' Слободской - 'Металлург' Омутнинск
END:VEVENT
BEGIN:VEVENT
UID:20260422T081521MSD-9260cUnSeR@81.176.228.3
DTSTAMP:20260422T041521Z
DESCRIPTION:
DTSTART;TZID=Europe/Moscow:20140718T160000
DTEND;TZID=Europe/Moscow:20140718T173500
LOCATION:
SUMMARY:Первенство Кировской области по футболу. Юноши 1997-1998. Групповой
  этап 2014.: 'Металлург' Омутнинск - 'ДЮСШ' Слободской
END:VEVENT
BEGIN:VEVENT
UID:20260422T081521MSD-9272OZnv7o@81.176.228.3
DTSTAMP:20260422T041521Z
DESCRIPTION:
DTSTART;TZID=Europe/Moscow:20140725T160000
DTEND;TZID=Europe/Moscow:20140725T173500
LOCATION:
SUMMARY:Первенство Кировской области по футболу. Юноши 1997-1998. Групповой
  этап 2014.: 'ДЮСШ' Слободской - 'Жемчужина' Б-Холуница
END:VEVENT
BEGIN:VEVENT
UID:20260422T081521MSD-9284k06wFN@81.176.228.3
DTSTAMP:20260422T041521Z
DESCRIPTION:
DTSTART;TZID=Europe/Moscow:20140805T160000
DTEND;TZID=Europe/Moscow:20140805T173500
LOCATION:
SUMMARY:Первенство Кировской области по футболу. Юноши 1997-1998. Групповой
  этап 2014.: 'Жемчужина' Б-Холуница - 'ДЮСШ' Слободской
END:VEVENT
END:VCALENDAR
