BEGIN:VCALENDAR
VERSION:2.0
PRODID:-//81.176.228.3//NONSGML kigkonsult.se iCalcreator 2.10.23//
BEGIN:VEVENT
UID:20260421T223105MSD-62090kiHrV@81.176.228.3
DTSTAMP:20260421T183105Z
DESCRIPTION:УСК ВятГГУ
DTSTART;TZID=Europe/Moscow:20141119T180000
DTEND;TZID=Europe/Moscow:20141119T185500
LOCATION:ул. Орловская\, д. 12\,  Киров
SUMMARY:Чемпионат Кировской области по мини-футболу 2014-2015: 'Динамо-М' К
 иров - 'Факел' Киров
END:VEVENT
BEGIN:VEVENT
UID:20260421T223105MSD-6221BU1I8a@81.176.228.3
DTSTAMP:20260421T183105Z
DESCRIPTION:УСК ВятГГУ
DTSTART;TZID=Europe/Moscow:20141126T170000
DTEND;TZID=Europe/Moscow:20141126T175500
LOCATION:ул. Орловская\, д. 12\,  Киров
SUMMARY:Чемпионат Кировской области по мини-футболу 2014-2015: 'Холостежь' 
 Киров - 'Динамо-М' Киров
END:VEVENT
BEGIN:VEVENT
UID:20260421T223105MSD-6232VIVVop@81.176.228.3
DTSTAMP:20260421T183105Z
DESCRIPTION:УСК ВятГГУ
DTSTART;TZID=Europe/Moscow:20141201T170000
DTEND;TZID=Europe/Moscow:20141201T175500
LOCATION:ул. Орловская\, д. 12\,  Киров
SUMMARY:Чемпионат Кировской области по мини-футболу 2014-2015: 'Динамо-М' К
 иров - 'МЧС' Киров
END:VEVENT
BEGIN:VEVENT
UID:20260421T223105MSD-6243HJ4CtS@81.176.228.3
DTSTAMP:20260421T183105Z
DESCRIPTION:УСК ВятГГУ
DTSTART;TZID=Europe/Moscow:20141210T170000
DTEND;TZID=Europe/Moscow:20141210T175500
LOCATION:ул. Орловская\, д. 12\,  Киров
SUMMARY:Чемпионат Кировской области по мини-футболу 2014-2015: 'Динамо-М' К
 иров - 'ЮКА-VEKKER' Киров
END:VEVENT
BEGIN:VEVENT
UID:20260421T223105MSD-6255D2TbOR@81.176.228.3
DTSTAMP:20260421T183105Z
DESCRIPTION:УСК ВятГГУ
DTSTART;TZID=Europe/Moscow:20141215T170000
DTEND;TZID=Europe/Moscow:20141215T175500
LOCATION:ул. Орловская\, д. 12\,  Киров
SUMMARY:Чемпионат Кировской области по мини-футболу 2014-2015: 'Гидраэр' Ки
 ров - 'Динамо-М' Киров
END:VEVENT
BEGIN:VEVENT
UID:20260421T223105MSD-6266hZr6sT@81.176.228.3
DTSTAMP:20260421T183105Z
DESCRIPTION:УСК ВятГГУ
DTSTART;TZID=Europe/Moscow:20141224T170000
DTEND;TZID=Europe/Moscow:20141224T175500
LOCATION:ул. Орловская\, д. 12\,  Киров
SUMMARY:Чемпионат Кировской области по мини-футболу 2014-2015: 'Динамо-М' К
 иров - СК 'Аякс' Киров
END:VEVENT
BEGIN:VEVENT
UID:20260421T223105MSD-6278pWaL1c@81.176.228.3
DTSTAMP:20260421T183105Z
DESCRIPTION:УСК ВятГГУ
DTSTART;TZID=Europe/Moscow:20150104T120000
DTEND;TZID=Europe/Moscow:20150104T125500
LOCATION:ул. Орловская\, д. 12\,  Киров
SUMMARY:Чемпионат Кировской области по мини-футболу 2014-2015: 'Прогресс-Пя
 терка' Киров - 'Динамо-М' Киров
END:VEVENT
BEGIN:VEVENT
UID:20260421T223105MSD-62903BUAvb@81.176.228.3
DTSTAMP:20260421T183105Z
DESCRIPTION:УСК ВятГГУ
DTSTART;TZID=Europe/Moscow:20150107T120000
DTEND;TZID=Europe/Moscow:20150107T125500
LOCATION:ул. Орловская\, д. 12\,  Киров
SUMMARY:Чемпионат Кировской области по мини-футболу 2014-2015: 'Динамо-М' К
 иров - 'Кировэнерго' Киров
END:VEVENT
BEGIN:VEVENT
UID:20260421T223105MSD-6302eASAfZ@81.176.228.3
DTSTAMP:20260421T183105Z
DESCRIPTION:УСК ВятГГУ
DTSTART;TZID=Europe/Moscow:20150109T120000
DTEND;TZID=Europe/Moscow:20150109T125500
LOCATION:ул. Орловская\, д. 12\,  Киров
SUMMARY:Чемпионат Кировской области по мини-футболу 2014-2015: 'Верес' Киро
 в - 'Динамо-М' Киров
END:VEVENT
BEGIN:VEVENT
UID:20260421T223105MSD-6313V76IVR@81.176.228.3
DTSTAMP:20260421T183105Z
DESCRIPTION:УСК ВятГГУ
DTSTART;TZID=Europe/Moscow:20150114T200000
DTEND;TZID=Europe/Moscow:20150114T205500
LOCATION:ул. Орловская\, д. 12\,  Киров
SUMMARY:Чемпионат Кировской области по мини-футболу 2014-2015: 'Динамо-М' К
 иров - 'Труд' Вахруши
END:VEVENT
BEGIN:VEVENT
UID:20260421T223105MSD-6325glMuZs@81.176.228.3
DTSTAMP:20260421T183105Z
DESCRIPTION:УСК ВятГГУ
DTSTART;TZID=Europe/Moscow:20150121T200000
DTEND;TZID=Europe/Moscow:20150121T205500
LOCATION:ул. Орловская\, д. 12\,  Киров
SUMMARY:Чемпионат Кировской области по мини-футболу 2014-2015: 'Ракета' Сло
 бодской - 'Динамо-М' Киров
END:VEVENT
BEGIN:VEVENT
UID:20260421T223105MSD-6336Zk1cFv@81.176.228.3
DTSTAMP:20260421T183105Z
DESCRIPTION:УСК ВятГГУ
DTSTART;TZID=Europe/Moscow:20150126T170000
DTEND;TZID=Europe/Moscow:20150126T175500
LOCATION:ул. Орловская\, д. 12\,  Киров
SUMMARY:Чемпионат Кировской области по мини-футболу 2014-2015: 'Динамо-М' К
 иров - 'Олимп' Киров
END:VEVENT
BEGIN:VEVENT
UID:20260421T223105MSD-6348twt6gv@81.176.228.3
DTSTAMP:20260421T183105Z
DESCRIPTION:УСК ВятГГУ
DTSTART;TZID=Europe/Moscow:20150204T190000
DTEND;TZID=Europe/Moscow:20150204T195500
LOCATION:ул. Орловская\, д. 12\,  Киров
SUMMARY:Чемпионат Кировской области по мини-футболу 2014-2015: 'КРО Динамо'
  Киров - 'Динамо-М' Киров
END:VEVENT
BEGIN:VEVENT
UID:20260421T223105MSD-6359gru79a@81.176.228.3
DTSTAMP:20260421T183105Z
DESCRIPTION:УСК ВятГГУ
DTSTART;TZID=Europe/Moscow:20150209T170000
DTEND;TZID=Europe/Moscow:20150209T175500
LOCATION:ул. Орловская\, д. 12\,  Киров
SUMMARY:Чемпионат Кировской области по мини-футболу 2014-2015: 'Динамо-М' К
 иров - 'Империал' Киров
END:VEVENT
BEGIN:VEVENT
UID:20260421T223105MSD-6371G8jHvb@81.176.228.3
DTSTAMP:20260421T183105Z
DESCRIPTION:УСК ВятГГУ
DTSTART;TZID=Europe/Moscow:20150216T190000
DTEND;TZID=Europe/Moscow:20150216T195500
LOCATION:ул. Орловская\, д. 12\,  Киров
SUMMARY:Чемпионат Кировской области по мини-футболу 2014-2015: 'Нововятич' 
 Киров - 'Динамо-М' Киров
END:VEVENT
BEGIN:VEVENT
UID:20260421T223105MSD-6383UU7EUJ@81.176.228.3
DTSTAMP:20260421T183105Z
DESCRIPTION:УСК ВятГГУ
DTSTART;TZID=Europe/Moscow:20150225T180000
DTEND;TZID=Europe/Moscow:20150225T185500
LOCATION:ул. Орловская\, д. 12\,  Киров
SUMMARY:Чемпионат Кировской области по мини-футболу 2014-2015: 'Динамо-М' К
 иров - 'ИнтерОптим' Киров
END:VEVENT
BEGIN:VEVENT
UID:20260421T223105MSD-6394rCe7ls@81.176.228.3
DTSTAMP:20260421T183105Z
DESCRIPTION:УСК ВятГГУ
DTSTART;TZID=Europe/Moscow:20150302T170000
DTEND;TZID=Europe/Moscow:20150302T175500
LOCATION:ул. Орловская\, д. 12\,  Киров
SUMMARY:Чемпионат Кировской области по мини-футболу 2014-2015: 'ВятГГУ' Кир
 ов - 'Динамо-М' Киров
END:VEVENT
BEGIN:VEVENT
UID:20260421T223105MSD-6406msuVub@81.176.228.3
DTSTAMP:20260421T183105Z
DESCRIPTION:УСК ВятГГУ
DTSTART;TZID=Europe/Moscow:20150309T170000
DTEND;TZID=Europe/Moscow:20150309T175500
LOCATION:ул. Орловская\, д. 12\,  Киров
SUMMARY:Чемпионат Кировской области по мини-футболу 2014-2015: 'Динамо-М' К
 иров - 'Pirelli' Киров
END:VEVENT
BEGIN:VEVENT
UID:20260421T223105MSD-6418vPevMF@81.176.228.3
DTSTAMP:20260421T183105Z
DESCRIPTION:УСК ВятГГУ
DTSTART;TZID=Europe/Moscow:20150318T210000
DTEND;TZID=Europe/Moscow:20150318T215500
LOCATION:ул. Орловская\, д. 12\,  Киров
SUMMARY:Чемпионат Кировской области по мини-футболу 2014-2015: 'ГГК' Киров 
 - 'Динамо-М' Киров
END:VEVENT
END:VCALENDAR
