BEGIN:VCALENDAR
VERSION:2.0
PRODID:-//81.176.228.3//NONSGML kigkonsult.se iCalcreator 2.10.23//
BEGIN:VEVENT
UID:20260421T191146MSD-4540MjHRjD@81.176.228.3
DTSTAMP:20260421T151146Z
DESCRIPTION:УСК ВятГГУ
DTSTART;TZID=Europe/Moscow:20150323T210000
DTEND;TZID=Europe/Moscow:20150323T215500
LOCATION:ул. Орловская\, д. 12\,  Киров
SUMMARY:Кубок Кировской области по мини-футболу 2015: 'Олимп' Киров - 'ЮКА-
 VEKKER' Киров
END:VEVENT
BEGIN:VEVENT
UID:20260421T191146MSD-4552j17Nj6@81.176.228.3
DTSTAMP:20260421T151146Z
DESCRIPTION:УСК ВятГГУ
DTSTART;TZID=Europe/Moscow:20150325T180000
DTEND;TZID=Europe/Moscow:20150325T185500
LOCATION:ул. Орловская\, д. 12\,  Киров
SUMMARY:Кубок Кировской области по мини-футболу 2015: 'ЮКА-VEKKER' Киров - 
 'ГГК' Киров
END:VEVENT
BEGIN:VEVENT
UID:20260421T191146MSD-4564H9X7uS@81.176.228.3
DTSTAMP:20260421T151146Z
DESCRIPTION:УСК ВятГГУ
DTSTART;TZID=Europe/Moscow:20150330T200000
DTEND;TZID=Europe/Moscow:20150330T205500
LOCATION:ул. Орловская\, д. 12\,  Киров
SUMMARY:Кубок Кировской области по мини-футболу 2015: 'Стулово' Стулово - '
 ЮКА-VEKKER' Киров
END:VEVENT
BEGIN:VEVENT
UID:20260421T191146MSD-4576tc5J29@81.176.228.3
DTSTAMP:20260421T151146Z
DESCRIPTION:УСК ВятГГУ
DTSTART;TZID=Europe/Moscow:20150406T170000
DTEND;TZID=Europe/Moscow:20150406T175500
LOCATION:ул. Орловская\, д. 12\,  Киров
SUMMARY:Кубок Кировской области по мини-футболу 2015: 'ЮКА-VEKKER' Киров - 
 'Катрапс' Киров
END:VEVENT
BEGIN:VEVENT
UID:20260421T191146MSD-4588RhiU9b@81.176.228.3
DTSTAMP:20260421T151146Z
DESCRIPTION:УСК ВятГГУ
DTSTART;TZID=Europe/Moscow:20150408T170000
DTEND;TZID=Europe/Moscow:20150408T175500
LOCATION:ул. Орловская\, д. 12\,  Киров
SUMMARY:Кубок Кировской области по мини-футболу 2015: 'ЮКА-VEKKER' Киров - 
 'Верес' Киров
END:VEVENT
BEGIN:VEVENT
UID:20260421T191146MSD-4599FSm7GV@81.176.228.3
DTSTAMP:20260421T151146Z
DESCRIPTION:УСК ВятГГУ
DTSTART;TZID=Europe/Moscow:20150410T170000
DTEND;TZID=Europe/Moscow:20150410T175500
LOCATION:ул. Орловская\, д. 12\,  Киров
SUMMARY:Кубок Кировской области по мини-футболу 2015: 'Пятерка' Киров - 'ЮК
 А-VEKKER' Киров
END:VEVENT
END:VCALENDAR
