BEGIN:VCALENDAR
VERSION:2.0
PRODID:-//81.176.228.3//NONSGML kigkonsult.se iCalcreator 2.10.23//
BEGIN:VEVENT
UID:20260421T200213MSD-73658v4JpO@81.176.228.3
DTSTAMP:20260421T160213Z
DESCRIPTION:Стадион 'Городской' Белая Холуница
DTSTART;TZID=Europe/Moscow:20150703T160000
DTEND;TZID=Europe/Moscow:20150703T173500
LOCATION:\,  
SUMMARY:Первенство Кировской области по футболу. Юноши 1998-1999. Групповой
  этап 2015.: 'Жемчужина' Б-Холуница - 'ДЮСШ' Кирс
END:VEVENT
BEGIN:VEVENT
UID:20260421T200213MSD-7378VSzuI6@81.176.228.3
DTSTAMP:20260421T160213Z
DESCRIPTION:Cтадион 'Труд' Слободской
DTSTART;TZID=Europe/Moscow:20150706T160000
DTEND;TZID=Europe/Moscow:20150706T173500
LOCATION:\,  
SUMMARY:Первенство Кировской области по футболу. Юноши 1998-1999. Групповой
  этап 2015.: 'ДЮСШ' Слободской - 'ДЮСШ' Кирс
END:VEVENT
BEGIN:VEVENT
UID:20260421T200213MSD-73898VwUvd@81.176.228.3
DTSTAMP:20260421T160213Z
DESCRIPTION:Стадион 'ДЮСШ' Кирс
DTSTART;TZID=Europe/Moscow:20150710T160000
DTEND;TZID=Europe/Moscow:20150710T173500
LOCATION:\,  
SUMMARY:Первенство Кировской области по футболу. Юноши 1998-1999. Групповой
  этап 2015.: 'ДЮСШ' Кирс - 'Металлург' Омутнинск
END:VEVENT
BEGIN:VEVENT
UID:20260421T200213MSD-7401cPtJ27@81.176.228.3
DTSTAMP:20260421T160213Z
DESCRIPTION:Стадион 'ДЮСШ' Кирс
DTSTART;TZID=Europe/Moscow:20150721T160000
DTEND;TZID=Europe/Moscow:20150721T173500
LOCATION:\,  
SUMMARY:Первенство Кировской области по футболу. Юноши 1998-1999. Групповой
  этап 2015.: 'ДЮСШ' Кирс - 'Жемчужина' Б-Холуница
END:VEVENT
BEGIN:VEVENT
UID:20260421T200213MSD-7413oTZvwi@81.176.228.3
DTSTAMP:20260421T160213Z
DESCRIPTION:Стадион 'ДЮСШ' Кирс
DTSTART;TZID=Europe/Moscow:20150730T160000
DTEND;TZID=Europe/Moscow:20150730T173500
LOCATION:\,  
SUMMARY:Первенство Кировской области по футболу. Юноши 1998-1999. Групповой
  этап 2015.: 'ДЮСШ' Кирс - 'ДЮСШ' Слободской
END:VEVENT
BEGIN:VEVENT
UID:20260421T200213MSD-7424IdtFd1@81.176.228.3
DTSTAMP:20260421T160213Z
DESCRIPTION:Стадион 'Металлург' Омутнинск
DTSTART;TZID=Europe/Moscow:20150808T160000
DTEND;TZID=Europe/Moscow:20150808T173500
LOCATION:\,  
SUMMARY:Первенство Кировской области по футболу. Юноши 1998-1999. Групповой
  этап 2015.: 'Металлург' Омутнинск - 'ДЮСШ' Кирс
END:VEVENT
END:VCALENDAR
