BEGIN:VCALENDAR
VERSION:2.0
PRODID:-//81.176.228.3//NONSGML kigkonsult.se iCalcreator 2.10.23//
BEGIN:VEVENT
UID:20260425T032640MSD-7975xlixWi@81.176.228.3
DTSTAMP:20260424T232640Z
DESCRIPTION:Стадион 'Россия' Киров
DTSTART;TZID=Europe/Moscow:20160904T140000
DTEND;TZID=Europe/Moscow:20160904T153500
LOCATION:\, 610008 Киров
SUMMARY:Первенство Кировской области по футболу. Юноши 1999-2000. Финал 201
 6.: 'Динамо-ДЮСШ-5' Киров - 'ДЮСШ' Кирс
END:VEVENT
BEGIN:VEVENT
UID:20260425T032640MSD-7988sxUH1D@81.176.228.3
DTSTAMP:20260424T232640Z
DESCRIPTION:Стадион 'Россия' Киров
DTSTART;TZID=Europe/Moscow:20160909T140000
DTEND;TZID=Europe/Moscow:20160909T153500
LOCATION:\, 610008 Киров
SUMMARY:Первенство Кировской области по футболу. Юноши 1999-2000. Финал 201
 6.: 'Динамо-ДЮСШ-5' Киров - 'Электрон' В-Поляны
END:VEVENT
BEGIN:VEVENT
UID:20260425T032640MSD-8000Aol0Uc@81.176.228.3
DTSTAMP:20260424T232640Z
DESCRIPTION:Стадион 'ВятСШОР' Киров
DTSTART;TZID=Europe/Moscow:20160915T150000
DTEND;TZID=Europe/Moscow:20160915T163500
LOCATION:Ленинградская\, 1-Б\, 610047 Киров
SUMMARY:Первенство Кировской области по футболу. Юноши 1999-2000. Финал 201
 6.: 'Факел' Киров - 'Динамо-ДЮСШ-5' Киров
END:VEVENT
BEGIN:VEVENT
UID:20260425T032640MSD-8011mbNhss@81.176.228.3
DTSTAMP:20260424T232640Z
DESCRIPTION:Стадион 'Россия' Киров
DTSTART;TZID=Europe/Moscow:20160919T160000
DTEND;TZID=Europe/Moscow:20160919T173500
LOCATION:\, 610008 Киров
SUMMARY:Первенство Кировской области по футболу. Юноши 1999-2000. Финал 201
 6.: 'Нововятич СШОР-8' Киров - 'Динамо-ДЮСШ-5' Киров
END:VEVENT
BEGIN:VEVENT
UID:20260425T032640MSD-8023ZWXJoZ@81.176.228.3
DTSTAMP:20260424T232640Z
DESCRIPTION:Стадион 'Электрон' Вятские Поляны
DTSTART;TZID=Europe/Moscow:20160928T140000
DTEND;TZID=Europe/Moscow:20160928T153500
LOCATION:\,  
SUMMARY:Первенство Кировской области по футболу. Юноши 1999-2000. Финал 201
 6.: 'Электрон' В-Поляны - 'Динамо-ДЮСШ-5' Киров
END:VEVENT
BEGIN:VEVENT
UID:20260425T032640MSD-8035UUjkvk@81.176.228.3
DTSTAMP:20260424T232640Z
DESCRIPTION:Стадион 'Россия' Киров
DTSTART;TZID=Europe/Moscow:20161007T150000
DTEND;TZID=Europe/Moscow:20161007T163500
LOCATION:\, 610008 Киров
SUMMARY:Первенство Кировской области по футболу. Юноши 1999-2000. Финал 201
 6.: 'Динамо-ДЮСШ-5' Киров - 'Факел' Киров
END:VEVENT
BEGIN:VEVENT
UID:20260425T032640MSD-8047RBrAR9@81.176.228.3
DTSTAMP:20260424T232640Z
DESCRIPTION:Стадион 'ДЮСШ' Кирс
DTSTART;TZID=Europe/Moscow:20161009T140000
DTEND;TZID=Europe/Moscow:20161009T153500
LOCATION:\,  
SUMMARY:Первенство Кировской области по футболу. Юноши 1999-2000. Финал 201
 6.: 'ДЮСШ' Кирс - 'Динамо-ДЮСШ-5' Киров
END:VEVENT
BEGIN:VEVENT
UID:20260425T032640MSD-8059hRcKbn@81.176.228.3
DTSTAMP:20260424T232640Z
DESCRIPTION:Стадион 'Россия' Киров
DTSTART;TZID=Europe/Moscow:20161012T140000
DTEND;TZID=Europe/Moscow:20161012T153500
LOCATION:\, 610008 Киров
SUMMARY:Первенство Кировской области по футболу. Юноши 1999-2000. Финал 201
 6.: 'Динамо-ДЮСШ-5' Киров - 'Нововятич СШОР-8' Киров
END:VEVENT
END:VCALENDAR
