BEGIN:VCALENDAR
VERSION:2.0
PRODID:-//81.176.228.3//NONSGML kigkonsult.se iCalcreator 2.10.23//
BEGIN:VEVENT
UID:20260421T161353MSD-27221cfSHi@81.176.228.3
DTSTAMP:20260421T121353Z
DESCRIPTION:Стадион 'Россия' Киров
DTSTART;TZID=Europe/Moscow:20170506T180000
DTEND;TZID=Europe/Moscow:20170506T193000
LOCATION:\, 610008 Киров
SUMMARY:Турнир памяти ветеранов Кировского футбола 2017: 'ДЮСШ-5' Киров - '
 Авангард' Киров
END:VEVENT
BEGIN:VEVENT
UID:20260421T161353MSD-2734f7ATAW@81.176.228.3
DTSTAMP:20260421T121353Z
DESCRIPTION:Стадион 'ВятСШОР' Киров
DTSTART;TZID=Europe/Moscow:20170426T180000
DTEND;TZID=Europe/Moscow:20170426T193000
LOCATION:Ленинградская\, 1-Б\, 610047 Киров
SUMMARY:Турнир памяти ветеранов Кировского футбола 2017: 'ДЮСШ-5' Киров - '
 Факел' Киров
END:VEVENT
BEGIN:VEVENT
UID:20260421T161353MSD-2747PGHuoJ@81.176.228.3
DTSTAMP:20260421T121353Z
DESCRIPTION:Стадион 'ВятСШОР' Киров
DTSTART;TZID=Europe/Moscow:20170429T160000
DTEND;TZID=Europe/Moscow:20170429T173000
LOCATION:Ленинградская\, 1-Б\, 610047 Киров
SUMMARY:Турнир памяти ветеранов Кировского футбола 2017: 'Прогресс' Киров -
  'ДЮСШ-5' Киров
END:VEVENT
BEGIN:VEVENT
UID:20260421T161353MSD-2759TfgOPu@81.176.228.3
DTSTAMP:20260421T121353Z
DESCRIPTION:Стадион 'ВятСШОР' Киров
DTSTART;TZID=Europe/Moscow:20170501T130000
DTEND;TZID=Europe/Moscow:20170501T143000
LOCATION:Ленинградская\, 1-Б\, 610047 Киров
SUMMARY:Турнир памяти ветеранов Кировского футбола 2017: 'Факел-М' Киров - 
 'ДЮСШ-5' Киров
END:VEVENT
BEGIN:VEVENT
UID:20260421T161353MSD-2771mh4608@81.176.228.3
DTSTAMP:20260421T121353Z
DESCRIPTION:Стадион 'Динамо' Киров
DTSTART;TZID=Europe/Moscow:20170509T150000
DTEND;TZID=Europe/Moscow:20170509T163000
LOCATION:\,  
SUMMARY:Турнир памяти ветеранов Кировского футбола 2017: 'Динамо-М' Киров -
  'ДЮСШ-5' Киров
END:VEVENT
END:VCALENDAR
