BEGIN:VCALENDAR
VERSION:2.0
PRODID:-//81.176.228.3//NONSGML kigkonsult.se iCalcreator 2.10.23//
BEGIN:VEVENT
UID:20260420T181844MSD-3187g0gZXV@81.176.228.3
DTSTAMP:20260420T141844Z
DESCRIPTION:
DTSTART;TZID=Europe/Moscow:20180407T140000
DTEND;TZID=Europe/Moscow:20180407T154500
LOCATION:
SUMMARY:Кубок КОФФ  по мини-футболу. Спортивный сезон 2018 г.: 'МЧС' Киров 
 - 'Катрапс' Киров
END:VEVENT
BEGIN:VEVENT
UID:20260420T181844MSD-3199RDwHzp@81.176.228.3
DTSTAMP:20260420T141844Z
DESCRIPTION:
DTSTART;TZID=Europe/Moscow:20180408T110000
DTEND;TZID=Europe/Moscow:20180408T124500
LOCATION:
SUMMARY:Кубок КОФФ  по мини-футболу. Спортивный сезон 2018 г.: 'Союз' Пинюг
  - 'Катрапс' Киров
END:VEVENT
BEGIN:VEVENT
UID:20260420T181844MSD-3211JIrKV0@81.176.228.3
DTSTAMP:20260420T141844Z
DESCRIPTION:
DTSTART;TZID=Europe/Moscow:20180411T163000
DTEND;TZID=Europe/Moscow:20180411T181500
LOCATION:
SUMMARY:Кубок КОФФ  по мини-футболу. Спортивный сезон 2018 г.: 'Катрапс' Ки
 ров - 'Фанком' Киров
END:VEVENT
BEGIN:VEVENT
UID:20260420T181844MSD-3222eNLrj6@81.176.228.3
DTSTAMP:20260420T141844Z
DESCRIPTION:
DTSTART;TZID=Europe/Moscow:20180414T120000
DTEND;TZID=Europe/Moscow:20180414T134500
LOCATION:
SUMMARY:Кубок КОФФ  по мини-футболу. Спортивный сезон 2018 г.: 'ВятГУ-ФФК' 
 г. Киров - 'Катрапс' Киров
END:VEVENT
END:VCALENDAR
