BEGIN:VCALENDAR
VERSION:2.0
PRODID:-//81.176.228.3//NONSGML kigkonsult.se iCalcreator 2.10.23//
BEGIN:VEVENT
UID:20260421T182303MSD-2424Pfca8T@81.176.228.3
DTSTAMP:20260421T142303Z
DESCRIPTION:
DTSTART;TZID=Europe/Moscow:20190317T160000
DTEND;TZID=Europe/Moscow:20190317T170000
LOCATION:
SUMMARY:Кубок КОФФ по мини-футболу. Спортивный сезон 2019 г.: 'ИнтерОптим' 
 Киров - 'СШ №5' Киров
END:VEVENT
BEGIN:VEVENT
UID:20260421T182303MSD-2436T9H3ew@81.176.228.3
DTSTAMP:20260421T142303Z
DESCRIPTION:
DTSTART;TZID=Europe/Moscow:20190324T140000
DTEND;TZID=Europe/Moscow:20190324T150000
LOCATION:
SUMMARY:Кубок КОФФ по мини-футболу. Спортивный сезон 2019 г.: 'СШ №5' Киров
  - 'Фанком' Киров
END:VEVENT
BEGIN:VEVENT
UID:20260421T182303MSD-2448puGTMM@81.176.228.3
DTSTAMP:20260421T142303Z
DESCRIPTION:
DTSTART;TZID=Europe/Moscow:20190327T180000
DTEND;TZID=Europe/Moscow:20190327T190000
LOCATION:
SUMMARY:Кубок КОФФ по мини-футболу. Спортивный сезон 2019 г.: 'ВятГУ' г. Ки
 ров - 'СШ №5' Киров
END:VEVENT
BEGIN:VEVENT
UID:20260421T182303MSD-2460jZl4v0@81.176.228.3
DTSTAMP:20260421T142303Z
DESCRIPTION:
DTSTART;TZID=Europe/Moscow:20190330T173000
DTEND;TZID=Europe/Moscow:20190330T183000
LOCATION:
SUMMARY:Кубок КОФФ по мини-футболу. Спортивный сезон 2019 г.: 'СШ №5' Киров
  - 'Союз' Пинюг
END:VEVENT
BEGIN:VEVENT
UID:20260421T182303MSD-2472jlwobV@81.176.228.3
DTSTAMP:20260421T142303Z
DESCRIPTION:
DTSTART;TZID=Europe/Moscow:20190407T140000
DTEND;TZID=Europe/Moscow:20190407T150000
LOCATION:
SUMMARY:Кубок КОФФ по мини-футболу. Спортивный сезон 2019 г.: 'СШ №5' Киров
  - 'СШ № 5 2002' Киров
END:VEVENT
END:VCALENDAR
