BEGIN:VCALENDAR
VERSION:2.0
PRODID:-//81.176.228.3//NONSGML kigkonsult.se iCalcreator 2.10.23//
BEGIN:VEVENT
UID:20260423T182231MSD-2705HKkpWv@81.176.228.3
DTSTAMP:20260423T142231Z
DESCRIPTION:
DTSTART;TZID=Europe/Moscow:20191006T190000
DTEND;TZID=Europe/Moscow:20191006T201000
LOCATION:
SUMMARY:Региональный этап Чемпионата России по футболу 8*8: 'Братсбург' Кир
 ов - 'Нововятич' Киров
END:VEVENT
BEGIN:VEVENT
UID:20260423T182231MSD-2716HgruWj@81.176.228.3
DTSTAMP:20260423T142231Z
DESCRIPTION:
DTSTART;TZID=Europe/Moscow:20191011T200000
DTEND;TZID=Europe/Moscow:20191011T211000
LOCATION:
SUMMARY:Региональный этап Чемпионата России по футболу 8*8: 'Братсбург' Кир
 ов - 'Меркуриал' Киров
END:VEVENT
BEGIN:VEVENT
UID:20260423T182231MSD-2728DirsTh@81.176.228.3
DTSTAMP:20260423T142231Z
DESCRIPTION:
DTSTART;TZID=Europe/Moscow:20191018T200000
DTEND;TZID=Europe/Moscow:20191018T211000
LOCATION:
SUMMARY:Региональный этап Чемпионата России по футболу 8*8: 'Фанком' Киров 
 - 'Братсбург' Киров
END:VEVENT
END:VCALENDAR
