BEGIN:VCALENDAR
VERSION:2.0
PRODID:-//81.176.228.3//NONSGML kigkonsult.se iCalcreator 2.10.23//
BEGIN:VEVENT
UID:20260425T161333MSD-6047X7U3iH@81.176.228.3
DTSTAMP:20260425T121333Z
DESCRIPTION:УСК ВятГГУ
DTSTART;TZID=Europe/Moscow:20131118T180000
DTEND;TZID=Europe/Moscow:20131118T185500
LOCATION:ул. Орловская\, д. 12\,  Киров
SUMMARY:Чемпионат Кировской области по мини-футболу 2013-2014: 'Старт' Киро
 в - 'Кировэнерго' Киров
END:VEVENT
BEGIN:VEVENT
UID:20260425T161333MSD-60602kDhnz@81.176.228.3
DTSTAMP:20260425T121333Z
DESCRIPTION:УСК ВятГГУ
DTSTART;TZID=Europe/Moscow:20131125T200000
DTEND;TZID=Europe/Moscow:20131125T205500
LOCATION:ул. Орловская\, д. 12\,  Киров
SUMMARY:Чемпионат Кировской области по мини-футболу 2013-2014: 'ГГК' Киров 
 - 'Старт' Киров
END:VEVENT
BEGIN:VEVENT
UID:20260425T161333MSD-6072dpEL1V@81.176.228.3
DTSTAMP:20260425T121333Z
DESCRIPTION:УСК ВятГГУ
DTSTART;TZID=Europe/Moscow:20131127T210000
DTEND;TZID=Europe/Moscow:20131127T215500
LOCATION:ул. Орловская\, д. 12\,  Киров
SUMMARY:Чемпионат Кировской области по мини-футболу 2013-2014: 'МЧС' Киров 
 - 'Старт' Киров
END:VEVENT
BEGIN:VEVENT
UID:20260425T161333MSD-6086FLVVMf@81.176.228.3
DTSTAMP:20260425T121333Z
DESCRIPTION:УСК ВятГГУ
DTSTART;TZID=Europe/Moscow:20131202T210000
DTEND;TZID=Europe/Moscow:20131202T215500
LOCATION:ул. Орловская\, д. 12\,  Киров
SUMMARY:Чемпионат Кировской области по мини-футболу 2013-2014: 'Старт' Киро
 в - 'ГЭС' Киров
END:VEVENT
BEGIN:VEVENT
UID:20260425T161333MSD-609801oBNp@81.176.228.3
DTSTAMP:20260425T121333Z
DESCRIPTION:УСК ВятГГУ
DTSTART;TZID=Europe/Moscow:20131204T210000
DTEND;TZID=Europe/Moscow:20131204T215500
LOCATION:ул. Орловская\, д. 12\,  Киров
SUMMARY:Чемпионат Кировской области по мини-футболу 2013-2014: СК 'Аякс' Ки
 ров - 'Старт' Киров
END:VEVENT
BEGIN:VEVENT
UID:20260425T161333MSD-611298JNHM@81.176.228.3
DTSTAMP:20260425T121333Z
DESCRIPTION:УСК ВятГГУ
DTSTART;TZID=Europe/Moscow:20131211T200000
DTEND;TZID=Europe/Moscow:20131211T205500
LOCATION:ул. Орловская\, д. 12\,  Киров
SUMMARY:Чемпионат Кировской области по мини-футболу 2013-2014: 'Старт' Киро
 в - 'КРО Динамо' Киров
END:VEVENT
BEGIN:VEVENT
UID:20260425T161333MSD-6125LEN9c0@81.176.228.3
DTSTAMP:20260425T121333Z
DESCRIPTION:УСК ВятГГУ
DTSTART;TZID=Europe/Moscow:20131218T190000
DTEND;TZID=Europe/Moscow:20131218T195500
LOCATION:ул. Орловская\, д. 12\,  Киров
SUMMARY:Чемпионат Кировской области по мини-футболу 2013-2014: 'Прогресс-Пя
 терка' Киров - 'Старт' Киров
END:VEVENT
BEGIN:VEVENT
UID:20260425T161333MSD-6137s56vrp@81.176.228.3
DTSTAMP:20260425T121333Z
DESCRIPTION:УСК ВятГГУ
DTSTART;TZID=Europe/Moscow:20131225T190000
DTEND;TZID=Europe/Moscow:20131225T195500
LOCATION:ул. Орловская\, д. 12\,  Киров
SUMMARY:Чемпионат Кировской области по мини-футболу 2013-2014: 'Старт' Киро
 в - 'ИнтерОптим' Киров
END:VEVENT
BEGIN:VEVENT
UID:20260425T161333MSD-61508ZJZJU@81.176.228.3
DTSTAMP:20260425T121333Z
DESCRIPTION:УСК ВятГГУ
DTSTART;TZID=Europe/Moscow:20140104T110000
DTEND;TZID=Europe/Moscow:20140104T115500
LOCATION:ул. Орловская\, д. 12\,  Киров
SUMMARY:Чемпионат Кировской области по мини-футболу 2013-2014: 'Олимп' Киро
 в - 'Старт' Киров
END:VEVENT
BEGIN:VEVENT
UID:20260425T161333MSD-6162GTAKWi@81.176.228.3
DTSTAMP:20260425T121333Z
DESCRIPTION:УСК ВятГГУ
DTSTART;TZID=Europe/Moscow:20140106T150000
DTEND;TZID=Europe/Moscow:20140106T155500
LOCATION:ул. Орловская\, д. 12\,  Киров
SUMMARY:Чемпионат Кировской области по мини-футболу 2013-2014: 'Старт' Киро
 в - 'ВятГГУ' Киров
END:VEVENT
BEGIN:VEVENT
UID:20260425T161333MSD-61731c2vZd@81.176.228.3
DTSTAMP:20260425T121333Z
DESCRIPTION:УСК ВятГГУ
DTSTART;TZID=Europe/Moscow:20140108T120000
DTEND;TZID=Europe/Moscow:20140108T125500
LOCATION:ул. Орловская\, д. 12\,  Киров
SUMMARY:Чемпионат Кировской области по мини-футболу 2013-2014: 'Фанком' Кир
 ов - 'Старт' Киров
END:VEVENT
BEGIN:VEVENT
UID:20260425T161333MSD-6188fceubj@81.176.228.3
DTSTAMP:20260425T121333Z
DESCRIPTION:УСК ВятГГУ
DTSTART;TZID=Europe/Moscow:20140113T180000
DTEND;TZID=Europe/Moscow:20140113T185500
LOCATION:ул. Орловская\, д. 12\,  Киров
SUMMARY:Чемпионат Кировской области по мини-футболу 2013-2014: 'Авангард' К
 иров - 'Старт' Киров
END:VEVENT
BEGIN:VEVENT
UID:20260425T161333MSD-6200roECm9@81.176.228.3
DTSTAMP:20260425T121333Z
DESCRIPTION:УСК ВятГГУ
DTSTART;TZID=Europe/Moscow:20140120T200000
DTEND;TZID=Europe/Moscow:20140120T205500
LOCATION:ул. Орловская\, д. 12\,  Киров
SUMMARY:Чемпионат Кировской области по мини-футболу 2013-2014: 'Ракета' Сло
 бодской - 'Старт' Киров
END:VEVENT
BEGIN:VEVENT
UID:20260425T161333MSD-6212g7PZvA@81.176.228.3
DTSTAMP:20260425T121333Z
DESCRIPTION:УСК ВятГГУ
DTSTART;TZID=Europe/Moscow:20140127T190000
DTEND;TZID=Europe/Moscow:20140127T195500
LOCATION:ул. Орловская\, д. 12\,  Киров
SUMMARY:Чемпионат Кировской области по мини-футболу 2013-2014: 'Старт' Киро
 в - 'Труд' Вахруши
END:VEVENT
BEGIN:VEVENT
UID:20260425T161333MSD-6224BVUilJ@81.176.228.3
DTSTAMP:20260425T121333Z
DESCRIPTION:УСК ВятГГУ
DTSTART;TZID=Europe/Moscow:20140203T170000
DTEND;TZID=Europe/Moscow:20140203T175500
LOCATION:ул. Орловская\, д. 12\,  Киров
SUMMARY:Чемпионат Кировской области по мини-футболу 2013-2014: 'Старт' Киро
 в - 'АВИТЕК' Киров
END:VEVENT
BEGIN:VEVENT
UID:20260425T161333MSD-6237tX6RI5@81.176.228.3
DTSTAMP:20260425T121333Z
DESCRIPTION:УСК ВятГГУ
DTSTART;TZID=Europe/Moscow:20140212T170000
DTEND;TZID=Europe/Moscow:20140212T175500
LOCATION:ул. Орловская\, д. 12\,  Киров
SUMMARY:Чемпионат Кировской области по мини-футболу 2013-2014: 'Старт' Киро
 в - 'Вятская ГСХА' Киров
END:VEVENT
END:VCALENDAR
