BEGIN:VCALENDAR
VERSION:2.0
PRODID:-//81.176.228.3//NONSGML kigkonsult.se iCalcreator 2.10.23//
BEGIN:VEVENT
UID:20260425T022404MSD-9158A21Siz@81.176.228.3
DTSTAMP:20260424T222404Z
DESCRIPTION:Стадион 'Машиностроитель' Киров
DTSTART;TZID=Europe/Moscow:20140119T120000
DTEND;TZID=Europe/Moscow:20140119T133500
LOCATION:Розы Люксембург 95Б\,  Киров
SUMMARY:Первенство Кировской области по футболу 'Снежинка-2014': 'ДЮСШ-5' К
 иров - 'Машиностроитель' Киров
END:VEVENT
BEGIN:VEVENT
UID:20260425T022404MSD-9170NAVh7l@81.176.228.3
DTSTAMP:20260424T222404Z
DESCRIPTION:Стадион 'Прогресс' Киров
DTSTART;TZID=Europe/Moscow:20140126T120000
DTEND;TZID=Europe/Moscow:20140126T133500
LOCATION:\,  Киров
SUMMARY:Первенство Кировской области по футболу 'Снежинка-2014': 'ДЮСШ-5' К
 иров - 'Факел' Киров
END:VEVENT
BEGIN:VEVENT
UID:20260425T022404MSD-9182L2wPmw@81.176.228.3
DTSTAMP:20260424T222404Z
DESCRIPTION:Стадион 'Прогресс' Киров
DTSTART;TZID=Europe/Moscow:20140202T133000
DTEND;TZID=Europe/Moscow:20140202T150500
LOCATION:\,  Киров
SUMMARY:Первенство Кировской области по футболу 'Снежинка-2014': 'СДЮСШОР-8
 ' Киров - 'ДЮСШ-5' Киров
END:VEVENT
BEGIN:VEVENT
UID:20260425T022404MSD-9194XTghWu@81.176.228.3
DTSTAMP:20260424T222404Z
DESCRIPTION:Стадион 'Прогресс' Киров
DTSTART;TZID=Europe/Moscow:20140209T143000
DTEND;TZID=Europe/Moscow:20140209T160500
LOCATION:\,  Киров
SUMMARY:Первенство Кировской области по футболу 'Снежинка-2014': 'ДЮСШ-5' К
 иров - 'Факел-2' Киров
END:VEVENT
BEGIN:VEVENT
UID:20260425T022404MSD-92067SKD4L@81.176.228.3
DTSTAMP:20260424T222404Z
DESCRIPTION:Стадион 'Россия' Киров
DTSTART;TZID=Europe/Moscow:20140215T130000
DTEND;TZID=Europe/Moscow:20140215T143500
LOCATION:\, 610008 Киров
SUMMARY:Первенство Кировской области по футболу 'Снежинка-2014': 'Динамо-М'
  Киров - 'ДЮСШ-5' Киров
END:VEVENT
BEGIN:VEVENT
UID:20260425T022404MSD-9218lll889@81.176.228.3
DTSTAMP:20260424T222404Z
DESCRIPTION:Стадион 'Прогресс' Киров
DTSTART;TZID=Europe/Moscow:20140223T120000
DTEND;TZID=Europe/Moscow:20140223T133500
LOCATION:\,  Киров
SUMMARY:Первенство Кировской области по футболу 'Снежинка-2014': 'ДЮСШ-5' К
 иров - 'ГЭС' Киров
END:VEVENT
BEGIN:VEVENT
UID:20260425T022404MSD-9230oFoUVA@81.176.228.3
DTSTAMP:20260424T222404Z
DESCRIPTION:Стадион 'Прогресс' Киров
DTSTART;TZID=Europe/Moscow:20140301T143000
DTEND;TZID=Europe/Moscow:20140301T160500
LOCATION:\,  Киров
SUMMARY:Первенство Кировской области по футболу 'Снежинка-2014': 'Дарья' Ор
 ичи - 'ДЮСШ-5' Киров
END:VEVENT
BEGIN:VEVENT
UID:20260425T022404MSD-9241lts84a@81.176.228.3
DTSTAMP:20260424T222404Z
DESCRIPTION:Стадион 'Прогресс' Киров
DTSTART;TZID=Europe/Moscow:20140308T093000
DTEND;TZID=Europe/Moscow:20140308T110500
LOCATION:\,  Киров
SUMMARY:Первенство Кировской области по футболу 'Снежинка-2014': 'ДЮСШ-5' К
 иров - 'Прогресс' Киров
END:VEVENT
BEGIN:VEVENT
UID:20260425T022404MSD-9253mJlbU1@81.176.228.3
DTSTAMP:20260424T222404Z
DESCRIPTION:Стадион 'Прогресс' Киров
DTSTART;TZID=Europe/Moscow:20140310T123000
DTEND;TZID=Europe/Moscow:20140310T140500
LOCATION:\,  Киров
SUMMARY:Первенство Кировской области по футболу 'Снежинка-2014': 'Авангард'
  Киров - 'ДЮСШ-5' Киров
END:VEVENT
END:VCALENDAR
