BEGIN:VCALENDAR
VERSION:2.0
PRODID:-//81.176.228.3//NONSGML kigkonsult.se iCalcreator 2.10.23//
BEGIN:VEVENT
UID:20260419T164539MSD-1666mIFUvA@81.176.228.3
DTSTAMP:20260419T124539Z
DESCRIPTION:Стадион 'ВятОСДЮСШОР' Киров
DTSTART;TZID=Europe/Moscow:20140426T110000
DTEND;TZID=Europe/Moscow:20140426T123500
LOCATION:Ленинградская-1б\, 610047 Киров
SUMMARY:Турнир памяти ветеранов Кировского футбола 2014: 'Олимпия' К-Чепецк
  - 'Прогресс' Киров
END:VEVENT
BEGIN:VEVENT
UID:20260419T164539MSD-1678LE2Asn@81.176.228.3
DTSTAMP:20260419T124539Z
DESCRIPTION:Стадион 'Россия' Киров
DTSTART;TZID=Europe/Moscow:20140501T160000
DTEND;TZID=Europe/Moscow:20140501T173500
LOCATION:\, 610008 Киров
SUMMARY:Турнир памяти ветеранов Кировского футбола 2014: 'Олимпия' К-Чепецк
  - 'Динамо-М' Киров
END:VEVENT
BEGIN:VEVENT
UID:20260419T164539MSD-16904tu8HP@81.176.228.3
DTSTAMP:20260419T124539Z
DESCRIPTION:Стадион 'ВятОСДЮСШОР' Киров
DTSTART;TZID=Europe/Moscow:20140503T170000
DTEND;TZID=Europe/Moscow:20140503T183500
LOCATION:Ленинградская-1б\, 610047 Киров
SUMMARY:Турнир памяти ветеранов Кировского футбола 2014: 'Фанком' Киров - '
 Олимпия' К-Чепецк
END:VEVENT
BEGIN:VEVENT
UID:20260419T164539MSD-17017rW4k5@81.176.228.3
DTSTAMP:20260419T124539Z
DESCRIPTION:Стадион 'Россия' Киров
DTSTART;TZID=Europe/Moscow:20140507T190000
DTEND;TZID=Europe/Moscow:20140507T203500
LOCATION:\, 610008 Киров
SUMMARY:Турнир памяти ветеранов Кировского футбола 2014: 'СДЮСШОР-8' Киров 
 - 'Олимпия' К-Чепецк
END:VEVENT
BEGIN:VEVENT
UID:20260419T164539MSD-1713CxUVgL@81.176.228.3
DTSTAMP:20260419T124539Z
DESCRIPTION:Стадион 'ВятОСДЮСШОР' Киров
DTSTART;TZID=Europe/Moscow:20140509T120000
DTEND;TZID=Europe/Moscow:20140509T133500
LOCATION:Ленинградская-1б\, 610047 Киров
SUMMARY:Турнир памяти ветеранов Кировского футбола 2014: 'Авангард' Киров -
  'Олимпия' К-Чепецк
END:VEVENT
END:VCALENDAR
