BEGIN:VCALENDAR
VERSION:2.0
PRODID:-//81.176.228.3//NONSGML kigkonsult.se iCalcreator 2.10.23//
BEGIN:VEVENT
UID:20260424T014136MSD-186733U9Tp@81.176.228.3
DTSTAMP:20260423T214136Z
DESCRIPTION:Спортзал 'ДЮСШ № 5' Киров
DTSTART;TZID=Europe/Moscow:20170316T193000
DTEND;TZID=Europe/Moscow:20170316T202500
LOCATION:\,  
SUMMARY:Кубок Кировской области по мини-футболу 2017: 'Прогресс' Киров -  '
 Литобувь' Слободской 
END:VEVENT
BEGIN:VEVENT
UID:20260424T014136MSD-18797FLxLb@81.176.228.3
DTSTAMP:20260423T214136Z
DESCRIPTION:Спортивный комплекс 'Красный Якорь'
DTSTART;TZID=Europe/Moscow:20170326T160000
DTEND;TZID=Europe/Moscow:20170326T165500
LOCATION:\,  
SUMMARY:Кубок Кировской области по мини-футболу 2017:  'Литобувь' Слободско
 й  -  'Стальпром' Киров
END:VEVENT
BEGIN:VEVENT
UID:20260424T014136MSD-1891Ezgdgd@81.176.228.3
DTSTAMP:20260423T214136Z
DESCRIPTION:Спортзал 'ДЮСШ № 5' Киров
DTSTART;TZID=Europe/Moscow:20170330T193000
DTEND;TZID=Europe/Moscow:20170330T202500
LOCATION:\,  
SUMMARY:Кубок Кировской области по мини-футболу 2017: 'РИО Гранд' Киров -  
 'Литобувь' Слободской 
END:VEVENT
BEGIN:VEVENT
UID:20260424T014136MSD-1903ec0K6f@81.176.228.3
DTSTAMP:20260423T214136Z
DESCRIPTION:Спортивный комплекс 'Красный Якорь'
DTSTART;TZID=Europe/Moscow:20170401T180000
DTEND;TZID=Europe/Moscow:20170401T185500
LOCATION:\,  
SUMMARY:Кубок Кировской области по мини-футболу 2017:  'Литобувь' Слободско
 й  - 'ДЮСШ-5' Киров
END:VEVENT
BEGIN:VEVENT
UID:20260424T014136MSD-1915sDDulh@81.176.228.3
DTSTAMP:20260423T214136Z
DESCRIPTION:УСК ВятГУ
DTSTART;TZID=Europe/Moscow:20170412T190000
DTEND;TZID=Europe/Moscow:20170412T195500
LOCATION:\,  
SUMMARY:Кубок Кировской области по мини-футболу 2017: 'ВятГУ' г. Киров -  '
 Литобувь' Слободской 
END:VEVENT
END:VCALENDAR
