BEGIN:VCALENDAR
VERSION:2.0
PRODID:-//81.176.228.3//NONSGML kigkonsult.se iCalcreator 2.10.23//
BEGIN:VEVENT
UID:20260423T140543MSD-8310UNnpXW@81.176.228.3
DTSTAMP:20260423T100543Z
DESCRIPTION:
DTSTART;TZID=Europe/Moscow:20191006T180000
DTEND;TZID=Europe/Moscow:20191006T191000
LOCATION:
SUMMARY:Региональный этап Чемпионата России по футболу 8*8: 'Фанком' Киров 
 - 'Меркуриал' Киров
END:VEVENT
BEGIN:VEVENT
UID:20260423T140543MSD-8324VVzrJV@81.176.228.3
DTSTAMP:20260423T100543Z
DESCRIPTION:
DTSTART;TZID=Europe/Moscow:20191013T180000
DTEND;TZID=Europe/Moscow:20191013T191000
LOCATION:
SUMMARY:Региональный этап Чемпионата России по футболу 8*8: 'Фанком' Киров 
 - 'Нововятич' Киров
END:VEVENT
BEGIN:VEVENT
UID:20260423T140543MSD-8338rwKbzn@81.176.228.3
DTSTAMP:20260423T100543Z
DESCRIPTION:
DTSTART;TZID=Europe/Moscow:20191018T200000
DTEND;TZID=Europe/Moscow:20191018T211000
LOCATION:
SUMMARY:Региональный этап Чемпионата России по футболу 8*8: 'Фанком' Киров 
 - 'Братсбург' Киров
END:VEVENT
BEGIN:VEVENT
UID:20260423T140543MSD-8352CurSUm@81.176.228.3
DTSTAMP:20260423T100543Z
DESCRIPTION:
DTSTART;TZID=Europe/Moscow:20191020T190000
DTEND;TZID=Europe/Moscow:20191020T201000
LOCATION:
SUMMARY:Региональный этап Чемпионата России по футболу 8*8: 'Фанком' Киров 
 - 'Вектор' Киров
END:VEVENT
END:VCALENDAR
